BEGIN:VCALENDAR
VERSION:2.0
PRODID:-//Orlando Metro Gymnastics - ECPv6.5.0//NONSGML v1.0//EN
CALSCALE:GREGORIAN
METHOD:PUBLISH
X-WR-CALNAME:Orlando Metro Gymnastics
X-ORIGINAL-URL:https://www.orlandometrogyms.com
X-WR-CALDESC:Events for Orlando Metro Gymnastics
REFRESH-INTERVAL;VALUE=DURATION:PT1H
X-Robots-Tag:noindex
X-PUBLISHED-TTL:PT1H
BEGIN:VTIMEZONE
TZID:America/New_York
BEGIN:DAYLIGHT
TZOFFSETFROM:-0500
TZOFFSETTO:-0400
TZNAME:EDT
DTSTART:20230312T070000
END:DAYLIGHT
BEGIN:STANDARD
TZOFFSETFROM:-0400
TZOFFSETTO:-0500
TZNAME:EST
DTSTART:20231105T060000
END:STANDARD
END:VTIMEZONE
BEGIN:VEVENT
DTSTART;TZID=America/New_York:20230505T110000
DTEND;TZID=America/New_York:20230505T120000
DTSTAMP:20260421T154007
CREATED:20230127T193014Z
LAST-MODIFIED:20230127T193014Z
UID:5349-1683284400-1683288000@www.orlandometrogyms.com
SUMMARY:Preschool Open Gym
DESCRIPTION:Tiny tots are offered a fun-tastic hour of gymnastics\, dancing\, bounce house\, trampoline and more.  Parent participation is required for each child.  Friends are welcome to attend.  This open gym is offered to children walking to 4 years old.
URL:https://www.orlandometrogyms.com/event/preschool-open-gym-82/
LOCATION:All Locations
END:VEVENT
BEGIN:VEVENT
DTSTART;TZID=America/New_York:20230505T183000
DTEND;TZID=America/New_York:20230505T200000
DTSTAMP:20260421T154007
CREATED:20230127T193638Z
LAST-MODIFIED:20230127T193638Z
UID:5363-1683311400-1683316800@www.orlandometrogyms.com
SUMMARY:Open Gym
DESCRIPTION:Open Gym is a great time to practice your gymnastics skills in addition to bounce house\, trampoline and more.  Parents are welcome to watch or drop off.  Boys and Girls are welcome ages 4-17. \nLake Mary and LB McLeod locations also offer Adult open gym 18+.
URL:https://www.orlandometrogyms.com/event/open-gym-78/
LOCATION:All Locations
END:VEVENT
BEGIN:VEVENT
DTSTART;TZID=America/New_York:20230506T190000
DTEND;TZID=America/New_York:20230506T214500
DTSTAMP:20260421T154007
CREATED:20230410T175902Z
LAST-MODIFIED:20230410T180133Z
UID:5610-1683399600-1683409500@www.orlandometrogyms.com
SUMMARY:Movie in the Gym - Baldwin Park Location Only
DESCRIPTION:
URL:https://www.orlandometrogyms.com/event/movie-in-the-gym-baldwin-park-location-only-22/
LOCATION:Orlando Metro Gymnastics – Baldwin Park\, 4915 New Broad Street\, Orlando\, FL\, 32814\, United States
END:VEVENT
BEGIN:VEVENT
DTSTART;TZID=America/New_York:20230507T143000
DTEND;TZID=America/New_York:20230507T160000
DTSTAMP:20260421T154007
CREATED:20230329T170237Z
LAST-MODIFIED:20230329T170240Z
UID:5526-1683469800-1683475200@www.orlandometrogyms.com
SUMMARY:Funday Sunday - Lake Mary Location Only
DESCRIPTION:
URL:https://www.orlandometrogyms.com/event/funday-sunday-lake-mary-location-only-26/
LOCATION:Orlando Metro Gymnastics – Lake Mary\, 1180 Emma Oaks Trail\, Lake Mary\, FL\, 32746\, United States
END:VEVENT
BEGIN:VEVENT
DTSTART;TZID=America/New_York:20230512T110000
DTEND;TZID=America/New_York:20230512T120000
DTSTAMP:20260421T154007
CREATED:20230127T193116Z
LAST-MODIFIED:20230127T193116Z
UID:5351-1683889200-1683892800@www.orlandometrogyms.com
SUMMARY:Preschool Open Gym
DESCRIPTION:Tiny tots are offered a fun-tastic hour of gymnastics\, dancing\, bounce house\, trampoline and more.  Parent participation is required for each child.  Friends are welcome to attend.  This open gym is offered to children walking to 4 years old.
URL:https://www.orlandometrogyms.com/event/preschool-open-gym-83/
LOCATION:All Locations
END:VEVENT
BEGIN:VEVENT
DTSTART;TZID=America/New_York:20230512T183000
DTEND;TZID=America/New_York:20230512T200000
DTSTAMP:20260421T154007
CREATED:20230127T193743Z
LAST-MODIFIED:20230127T193743Z
UID:5365-1683916200-1683921600@www.orlandometrogyms.com
SUMMARY:Open Gym
DESCRIPTION:Open Gym is a great time to practice your gymnastics skills in addition to bounce house\, trampoline and more.  Parents are welcome to watch or drop off.  Boys and Girls are welcome ages 4-17. \nLake Mary and LB McLeod locations also offer Adult open gym 18+.
URL:https://www.orlandometrogyms.com/event/open-gym-79/
LOCATION:All Locations
END:VEVENT
BEGIN:VEVENT
DTSTART;VALUE=DATE:20230514
DTEND;VALUE=DATE:20230515
DTSTAMP:20260421T154007
CREATED:20230410T175308Z
LAST-MODIFIED:20230410T175311Z
UID:5606-1684022400-1684108799@www.orlandometrogyms.com
SUMMARY:Happy Mother's Day
DESCRIPTION:
URL:https://www.orlandometrogyms.com/event/happy-mothers-day/
LOCATION:All Locations
END:VEVENT
BEGIN:VEVENT
DTSTART;TZID=America/New_York:20230519T110000
DTEND;TZID=America/New_York:20230519T120000
DTSTAMP:20260421T154007
CREATED:20230127T193204Z
LAST-MODIFIED:20230127T193204Z
UID:5353-1684494000-1684497600@www.orlandometrogyms.com
SUMMARY:Preschool Open Gym
DESCRIPTION:Tiny tots are offered a fun-tastic hour of gymnastics\, dancing\, bounce house\, trampoline and more.  Parent participation is required for each child.  Friends are welcome to attend.  This open gym is offered to children walking to 4 years old.
URL:https://www.orlandometrogyms.com/event/preschool-open-gym-84/
LOCATION:All Locations
END:VEVENT
BEGIN:VEVENT
DTSTART;TZID=America/New_York:20230519T183000
DTEND;TZID=America/New_York:20230519T213000
DTSTAMP:20260421T154007
CREATED:20230329T170502Z
LAST-MODIFIED:20230329T170505Z
UID:5530-1684521000-1684531800@www.orlandometrogyms.com
SUMMARY:Parents Night Out - Kick Off to Summer Luau
DESCRIPTION:
URL:https://www.orlandometrogyms.com/event/parents-night-out-kick-off-to-summer-luau/
LOCATION:All Locations
END:VEVENT
BEGIN:VEVENT
DTSTART;TZID=America/New_York:20230520T120000
DTEND;TZID=America/New_York:20230520T133000
DTSTAMP:20260421T154007
CREATED:20230329T170708Z
LAST-MODIFIED:20230329T170710Z
UID:5534-1684584000-1684589400@www.orlandometrogyms.com
SUMMARY:Tumble Workshop
DESCRIPTION:
URL:https://www.orlandometrogyms.com/event/tumble-workshop-2/
LOCATION:All Locations
END:VEVENT
BEGIN:VEVENT
DTSTART;VALUE=DATE:20230526
DTEND;VALUE=DATE:20230527
DTSTAMP:20260421T154007
CREATED:20230329T170855Z
LAST-MODIFIED:20230329T170857Z
UID:5538-1685059200-1685145599@www.orlandometrogyms.com
SUMMARY:Kidz Sports Summer Camp Begins - Lake Mary Location Only
DESCRIPTION:
URL:https://www.orlandometrogyms.com/event/kidz-sports-summer-camp-begins-lake-mary-location-only/
LOCATION:Orlando Metro Gymnastics – Lake Mary\, 1180 Emma Oaks Trail\, Lake Mary\, FL\, 32746\, United States
END:VEVENT
BEGIN:VEVENT
DTSTART;TZID=America/New_York:20230526T110000
DTEND;TZID=America/New_York:20230526T120000
DTSTAMP:20260421T154007
CREATED:20230127T193251Z
LAST-MODIFIED:20230127T193251Z
UID:5355-1685098800-1685102400@www.orlandometrogyms.com
SUMMARY:Preschool Open Gym
DESCRIPTION:Tiny tots are offered a fun-tastic hour of gymnastics\, dancing\, bounce house\, trampoline and more.  Parent participation is required for each child.  Friends are welcome to attend.  This open gym is offered to children walking to 4 years old.
URL:https://www.orlandometrogyms.com/event/preschool-open-gym-85/
LOCATION:All Locations
END:VEVENT
BEGIN:VEVENT
DTSTART;TZID=America/New_York:20230526T183000
DTEND;TZID=America/New_York:20230526T200000
DTSTAMP:20260421T154007
CREATED:20230127T193836Z
LAST-MODIFIED:20230127T193836Z
UID:5367-1685125800-1685131200@www.orlandometrogyms.com
SUMMARY:Open Gym
DESCRIPTION:Open Gym is a great time to practice your gymnastics skills in addition to bounce house\, trampoline and more.  Parents are welcome to watch or drop off.  Boys and Girls are welcome ages 4-17. \nLake Mary and LB McLeod locations also offer Adult open gym 18+.
URL:https://www.orlandometrogyms.com/event/open-gym-80/
LOCATION:All Locations
END:VEVENT
BEGIN:VEVENT
DTSTART;VALUE=DATE:20230529
DTEND;VALUE=DATE:20230530
DTSTAMP:20260421T154007
CREATED:20230329T171346Z
LAST-MODIFIED:20230329T171348Z
UID:5542-1685318400-1685404799@www.orlandometrogyms.com
SUMMARY:Closed Memorial Day
DESCRIPTION:
URL:https://www.orlandometrogyms.com/event/closed-memorial-day-2/
LOCATION:All Locations
END:VEVENT
BEGIN:VEVENT
DTSTART;VALUE=DATE:20230530
DTEND;VALUE=DATE:20230603
DTSTAMP:20260421T154007
CREATED:20230329T171619Z
LAST-MODIFIED:20230329T171805Z
UID:5547-1685404800-1685750399@www.orlandometrogyms.com
SUMMARY:Kidz Sports Summer Camp
DESCRIPTION:
URL:https://www.orlandometrogyms.com/event/kidz-sports-summer-camp-3/
LOCATION:All Locations
END:VEVENT
END:VCALENDAR