BEGIN:VCALENDAR
VERSION:2.0
PRODID:-//Orlando Metro Gymnastics - ECPv6.5.0//NONSGML v1.0//EN
CALSCALE:GREGORIAN
METHOD:PUBLISH
X-ORIGINAL-URL:https://www.orlandometrogyms.com
X-WR-CALDESC:Events for Orlando Metro Gymnastics
REFRESH-INTERVAL;VALUE=DURATION:PT1H
X-Robots-Tag:noindex
X-PUBLISHED-TTL:PT1H
BEGIN:VTIMEZONE
TZID:America/New_York
BEGIN:DAYLIGHT
TZOFFSETFROM:-0500
TZOFFSETTO:-0400
TZNAME:EDT
DTSTART:20230312T070000
END:DAYLIGHT
BEGIN:STANDARD
TZOFFSETFROM:-0400
TZOFFSETTO:-0500
TZNAME:EST
DTSTART:20231105T060000
END:STANDARD
END:VTIMEZONE
BEGIN:VEVENT
DTSTART;TZID=America/New_York:20230303T110000
DTEND;TZID=America/New_York:20230303T120000
DTSTAMP:20260421T114807
CREATED:20230104T213447Z
LAST-MODIFIED:20230104T213447Z
UID:5198-1677841200-1677844800@www.orlandometrogyms.com
SUMMARY:Preschool Open Gym
DESCRIPTION:Tiny tots are offered a fun-tastic hour of gymnastics\, dancing\, bounce house\, trampoline and more.  Parent participation is required for each child.  Friends are welcome to attend.  This open gym is offered to children walking to 4 years old.
URL:https://www.orlandometrogyms.com/event/preschool-open-gym-75/
LOCATION:All Locations
END:VEVENT
BEGIN:VEVENT
DTSTART;TZID=America/New_York:20230303T183000
DTEND;TZID=America/New_York:20230303T200000
DTSTAMP:20260421T114807
CREATED:20230104T220023Z
LAST-MODIFIED:20230104T220023Z
UID:5219-1677868200-1677873600@www.orlandometrogyms.com
SUMMARY:Open Gym
DESCRIPTION:Open Gym is a great time to practice your gymnastics skills in addition to bounce house\, trampoline and more.  Parents are welcome to watch or drop off.  Boys and Girls are welcome ages 4-17. \nLake Mary and LB McLeod locations also offer Adult open gym 18+.
URL:https://www.orlandometrogyms.com/event/open-gym-72/
LOCATION:All Locations
END:VEVENT
BEGIN:VEVENT
DTSTART;TZID=America/New_York:20230304T190000
DTEND;TZID=America/New_York:20230304T214500
DTSTAMP:20260421T114807
CREATED:20230127T191136Z
LAST-MODIFIED:20230127T192141Z
UID:5334-1677956400-1677966300@www.orlandometrogyms.com
SUMMARY:Movie in the Gym - Baldwin Park Location
DESCRIPTION:
URL:https://www.orlandometrogyms.com/event/movie-in-the-gym-baldwin-park-location-6/
LOCATION:Orlando Metro Gymnastics – Baldwin Park\, 4915 New Broad Street\, Orlando\, FL\, 32814\, United States
END:VEVENT
BEGIN:VEVENT
DTSTART;VALUE=DATE:20230310
DTEND;VALUE=DATE:20230311
DTSTAMP:20260421T114807
CREATED:20230104T222026Z
LAST-MODIFIED:20230104T222028Z
UID:5247-1678406400-1678492799@www.orlandometrogyms.com
SUMMARY:Kidz Sportz Day Camp
DESCRIPTION:
URL:https://www.orlandometrogyms.com/event/kidz-sportz-day-camp/
LOCATION:Avalon\, Baldwin\, LB McLeod Locations
END:VEVENT
BEGIN:VEVENT
DTSTART;TZID=America/New_York:20230310T110000
DTEND;TZID=America/New_York:20230310T120000
DTSTAMP:20260421T114807
CREATED:20230104T213611Z
LAST-MODIFIED:20230104T213611Z
UID:5200-1678446000-1678449600@www.orlandometrogyms.com
SUMMARY:Preschool Open Gym
DESCRIPTION:Tiny tots are offered a fun-tastic hour of gymnastics\, dancing\, bounce house\, trampoline and more.  Parent participation is required for each child.  Friends are welcome to attend.  This open gym is offered to children walking to 4 years old.
URL:https://www.orlandometrogyms.com/event/preschool-open-gym-76/
LOCATION:All Locations
END:VEVENT
BEGIN:VEVENT
DTSTART;TZID=America/New_York:20230310T183000
DTEND;TZID=America/New_York:20230310T200000
DTSTAMP:20260421T114807
CREATED:20230104T220136Z
LAST-MODIFIED:20230104T220136Z
UID:5221-1678473000-1678478400@www.orlandometrogyms.com
SUMMARY:Open Gym
DESCRIPTION:Open Gym is a great time to practice your gymnastics skills in addition to bounce house\, trampoline and more.  Parents are welcome to watch or drop off.  Boys and Girls are welcome ages 4-17. \nLake Mary and LB McLeod locations also offer Adult open gym 18+.
URL:https://www.orlandometrogyms.com/event/open-gym-73/
LOCATION:All Locations
END:VEVENT
BEGIN:VEVENT
DTSTART;TZID=America/New_York:20230312T143000
DTEND;TZID=America/New_York:20230312T160000
DTSTAMP:20260421T114807
CREATED:20230104T222154Z
LAST-MODIFIED:20230104T222156Z
UID:5251-1678631400-1678636800@www.orlandometrogyms.com
SUMMARY:Funday Sunday - Lake Mary Location Only
DESCRIPTION:
URL:https://www.orlandometrogyms.com/event/funday-sunday-lake-mary-location-only-24/
LOCATION:Orlando Metro Gymnastics – Lake Mary\, 1180 Emma Oaks Trail\, Lake Mary\, FL\, 32746\, United States
END:VEVENT
BEGIN:VEVENT
DTSTART;VALUE=DATE:20230313
DTEND;VALUE=DATE:20230318
DTSTAMP:20260421T114807
CREATED:20230104T222328Z
LAST-MODIFIED:20230104T222328Z
UID:5255-1678665600-1679097599@www.orlandometrogyms.com
SUMMARY:Kidz Sports Day Camp
DESCRIPTION:
URL:https://www.orlandometrogyms.com/event/kidz-sports-day-camp-27/
LOCATION:All Locations
END:VEVENT
BEGIN:VEVENT
DTSTART;VALUE=DATE:20230313
DTEND;VALUE=DATE:20230319
DTSTAMP:20260421T114807
CREATED:20230104T214457Z
LAST-MODIFIED:20230104T214457Z
UID:5206-1678665600-1679183999@www.orlandometrogyms.com
SUMMARY:No Classes for Spring Break
DESCRIPTION:There will be no gymnatics classes from 3/13/23 thru 3/18/23.  Spring break is built into the annual class calendar.  No make ups.  Daycamp is available all week.
URL:https://www.orlandometrogyms.com/event/no-classes-for-spring-break/
LOCATION:All Locations
END:VEVENT
BEGIN:VEVENT
DTSTART;TZID=America/New_York:20230322T183000
DTEND;TZID=America/New_York:20230322T193000
DTSTAMP:20260421T114807
CREATED:20230104T222455Z
LAST-MODIFIED:20230127T190649Z
UID:5257-1679509800-1679513400@www.orlandometrogyms.com
SUMMARY:Team Tryouts
DESCRIPTION:
URL:https://www.orlandometrogyms.com/event/team-tryouts-4/
LOCATION:All Locations
END:VEVENT
BEGIN:VEVENT
DTSTART;TZID=America/New_York:20230324T110000
DTEND;TZID=America/New_York:20230324T120000
DTSTAMP:20260421T114807
CREATED:20230104T213905Z
LAST-MODIFIED:20230104T213905Z
UID:5202-1679655600-1679659200@www.orlandometrogyms.com
SUMMARY:Preschool Open Gym
DESCRIPTION:Tiny tots are offered a fun-tastic hour of gymnastics\, dancing\, bounce house\, trampoline and more.  Parent participation is required for each child.  Friends are welcome to attend.  This open gym is offered to children walking to 4 years old.
URL:https://www.orlandometrogyms.com/event/preschool-open-gym-77/
LOCATION:All Locations
END:VEVENT
BEGIN:VEVENT
DTSTART;TZID=America/New_York:20230324T183000
DTEND;TZID=America/New_York:20230324T213000
DTSTAMP:20260421T114807
CREATED:20230104T222641Z
LAST-MODIFIED:20230127T192346Z
UID:5261-1679682600-1679693400@www.orlandometrogyms.com
SUMMARY:Parents Night Out - St. Patrick's Day Themed
DESCRIPTION:
URL:https://www.orlandometrogyms.com/event/parents-night-out-11/
LOCATION:All Locations
END:VEVENT
BEGIN:VEVENT
DTSTART;TZID=America/New_York:20230325T120000
DTEND;TZID=America/New_York:20230325T133000
DTSTAMP:20260421T114807
CREATED:20230104T222834Z
LAST-MODIFIED:20230104T222836Z
UID:5265-1679745600-1679751000@www.orlandometrogyms.com
SUMMARY:Tumble Workshop
DESCRIPTION:
URL:https://www.orlandometrogyms.com/event/tumble-workshop/
LOCATION:All Locations
END:VEVENT
BEGIN:VEVENT
DTSTART;TZID=America/New_York:20230331T110000
DTEND;TZID=America/New_York:20230331T120000
DTSTAMP:20260421T114807
CREATED:20230104T214003Z
LAST-MODIFIED:20230104T214003Z
UID:5204-1680260400-1680264000@www.orlandometrogyms.com
SUMMARY:Preschool Open Gym
DESCRIPTION:Tiny tots are offered a fun-tastic hour of gymnastics\, dancing\, bounce house\, trampoline and more.  Parent participation is required for each child.  Friends are welcome to attend.  This open gym is offered to children walking to 4 years old.
URL:https://www.orlandometrogyms.com/event/preschool-open-gym-78/
LOCATION:All Locations
END:VEVENT
BEGIN:VEVENT
DTSTART;TZID=America/New_York:20230331T183000
DTEND;TZID=America/New_York:20230331T200000
DTSTAMP:20260421T114807
CREATED:20230104T220247Z
LAST-MODIFIED:20230104T220247Z
UID:5223-1680287400-1680292800@www.orlandometrogyms.com
SUMMARY:Open Gym
DESCRIPTION:Open Gym is a great time to practice your gymnastics skills in addition to bounce house\, trampoline and more.  Parents are welcome to watch or drop off.  Boys and Girls are welcome ages 4-17. \nLake Mary and LB McLeod locations also offer Adult open gym 18+.
URL:https://www.orlandometrogyms.com/event/open-gym-74/
LOCATION:All Locations
END:VEVENT
END:VCALENDAR