BEGIN:VCALENDAR
VERSION:2.0
PRODID:-//Orlando Metro Gymnastics - ECPv6.5.0//NONSGML v1.0//EN
CALSCALE:GREGORIAN
METHOD:PUBLISH
X-WR-CALNAME:Orlando Metro Gymnastics
X-ORIGINAL-URL:https://www.orlandometrogyms.com
X-WR-CALDESC:Events for Orlando Metro Gymnastics
REFRESH-INTERVAL;VALUE=DURATION:PT1H
X-Robots-Tag:noindex
X-PUBLISHED-TTL:PT1H
BEGIN:VTIMEZONE
TZID:America/New_York
BEGIN:DAYLIGHT
TZOFFSETFROM:-0500
TZOFFSETTO:-0400
TZNAME:EDT
DTSTART:20220313T070000
END:DAYLIGHT
BEGIN:STANDARD
TZOFFSETFROM:-0400
TZOFFSETTO:-0500
TZNAME:EST
DTSTART:20221106T060000
END:STANDARD
END:VTIMEZONE
BEGIN:VEVENT
DTSTART;VALUE=DATE:20220801
DTEND;VALUE=DATE:20220806
DTSTAMP:20260421T115448
CREATED:20220430T205028Z
LAST-MODIFIED:20220430T205028Z
UID:4448-1659312000-1659743999@www.orlandometrogyms.com
SUMMARY:Kidz Sports Day Camp
DESCRIPTION:
URL:https://www.orlandometrogyms.com/event/kidz-sports-day-camp-21/
LOCATION:All Locations
END:VEVENT
BEGIN:VEVENT
DTSTART;TZID=America/New_York:20220801T193000
DTEND;TZID=America/New_York:20220801T213000
DTSTAMP:20260421T115448
CREATED:20220430T213659Z
LAST-MODIFIED:20220806T204431Z
UID:4499-1659382200-1659389400@www.orlandometrogyms.com
SUMMARY:Adult Open Gym - LB McLeod Location Only
DESCRIPTION:Beginners welcome.\nFitness * Calisthenics * Stretching *Flipping * Tumbling *\nStrength Training * Movement * Flexibility\nInstruction available at all levels!
URL:https://www.orlandometrogyms.com/event/adult-open-gym-lb-mcleod-location-only-39/
LOCATION:Orlando Metro Gymmnastics – LB McLeod\, 4658 LB McLeod Rd\, Orlando\, FL\, 32811\, United States
END:VEVENT
BEGIN:VEVENT
DTSTART;TZID=America/New_York:20220805T183000
DTEND;TZID=America/New_York:20220805T200000
DTSTAMP:20260421T115448
CREATED:20220430T212859Z
LAST-MODIFIED:20220430T212859Z
UID:4489-1659724200-1659729600@www.orlandometrogyms.com
SUMMARY:Open Gym
DESCRIPTION:Open Gym is a great time to practice your gymnastics skills in addition to bounce house\, trampoline and more.  Parents are welcome to watch or drop off.  Boys and Girls are welcome ages 4-17. \nLake Mary location now offers Adult open gym 18+.
URL:https://www.orlandometrogyms.com/event/open-gym-53/
LOCATION:All Locations
END:VEVENT
BEGIN:VEVENT
DTSTART;VALUE=DATE:20220806
DTEND;VALUE=DATE:20220808
DTSTAMP:20260421T115448
CREATED:20220630T023733Z
LAST-MODIFIED:20220630T023733Z
UID:4650-1659744000-1659916799@www.orlandometrogyms.com
SUMMARY:Girls Compulsory Camp - Lake Mary Location
DESCRIPTION:
URL:https://www.orlandometrogyms.com/event/girls-compulsory-camp-lake-mary-location/
LOCATION:Orlando Metro Gymnastics – Lake Mary\, 1180 Emma Oaks Trail\, Lake Mary\, FL\, 32746\, United States
END:VEVENT
BEGIN:VEVENT
DTSTART;VALUE=DATE:20220806
DTEND;VALUE=DATE:20220808
DTSTAMP:20260421T115448
CREATED:20220630T024325Z
LAST-MODIFIED:20220630T024325Z
UID:4653-1659744000-1659916799@www.orlandometrogyms.com
SUMMARY:Boys Competitive Camp - LB McLeod Location
DESCRIPTION:
URL:https://www.orlandometrogyms.com/event/boys-competitive-camp-lb-mcleod-location/
LOCATION:Orlando Metro Gymmnastics – LB McLeod\, 4658 LB McLeod Rd\, Orlando\, FL\, 32811\, United States
END:VEVENT
BEGIN:VEVENT
DTSTART;TZID=America/New_York:20220806T190000
DTEND;TZID=America/New_York:20220806T220000
DTSTAMP:20260421T115448
CREATED:20220806T202958Z
LAST-MODIFIED:20220806T202959Z
UID:4681-1659812400-1659823200@www.orlandometrogyms.com
SUMMARY:Movie in the Gym - Baldwin Park Location Only
DESCRIPTION:
URL:https://www.orlandometrogyms.com/event/movie-in-the-gym-baldwin-park-location-only-15/
LOCATION:Orlando Metro Gymnastics – Baldwin Park\, 4915 New Broad Street\, Orlando\, FL\, 32814\, United States
END:VEVENT
BEGIN:VEVENT
DTSTART;VALUE=DATE:20220808
DTEND;VALUE=DATE:20220810
DTSTAMP:20260421T115448
CREATED:20220430T205142Z
LAST-MODIFIED:20220430T205142Z
UID:4450-1659916800-1660089599@www.orlandometrogyms.com
SUMMARY:Kidz Sports Day Camp
DESCRIPTION:
URL:https://www.orlandometrogyms.com/event/kidz-sports-day-camp-22/
LOCATION:All Locations
END:VEVENT
BEGIN:VEVENT
DTSTART;TZID=America/New_York:20220808T193000
DTEND;TZID=America/New_York:20220808T213000
DTSTAMP:20260421T115448
CREATED:20220430T214235Z
LAST-MODIFIED:20220608T004924Z
UID:4501-1659987000-1659994200@www.orlandometrogyms.com
SUMMARY:Adult Open Gym - LB McLeod Location Only
DESCRIPTION:Beginners welcome.\nFitness * Calisthenics * Stretching *Flipping * Tumbling *\nStrength Training * Movement * Flexibility\nInstruction available at all levels!
URL:https://www.orlandometrogyms.com/event/adult-open-gym-lb-mcleod-locatin-only/
LOCATION:Orlando Metro Gymmnastics – LB McLeod\, 4658 LB McLeod Rd\, Orlando\, FL\, 32811\, United States
END:VEVENT
BEGIN:VEVENT
DTSTART;VALUE=DATE:20220810
DTEND;VALUE=DATE:20220811
DTSTAMP:20260421T115448
CREATED:20220806T202749Z
LAST-MODIFIED:20220806T202749Z
UID:4679-1660089600-1660175999@www.orlandometrogyms.com
SUMMARY:After School Begins - All Locations
DESCRIPTION:Please click here for information on After School for all locations!
URL:https://www.orlandometrogyms.com/event/after-school-begins-all-locations/
LOCATION:All Locations
END:VEVENT
BEGIN:VEVENT
DTSTART;TZID=America/New_York:20220812T110000
DTEND;TZID=America/New_York:20220812T120000
DTSTAMP:20260421T115448
CREATED:20220430T210628Z
LAST-MODIFIED:20220430T211124Z
UID:4473-1660302000-1660305600@www.orlandometrogyms.com
SUMMARY:Preschool Open Gym
DESCRIPTION:Tiny tots are offered a fun-tastic hour of gymnastics\, dancing\, bounce house\, trampoline and more.  Parent participation is required for each child.  Friends are welcome to attend.  This open gym is offered to children walking to 4 years old.
URL:https://www.orlandometrogyms.com/event/preschool-open-gym-66/
LOCATION:All Locations
END:VEVENT
BEGIN:VEVENT
DTSTART;TZID=America/New_York:20220812T160000
DTEND;TZID=America/New_York:20220812T180000
DTSTAMP:20260421T115448
CREATED:20220806T203315Z
LAST-MODIFIED:20220806T203315Z
UID:4685-1660320000-1660327200@www.orlandometrogyms.com
SUMMARY:Metro Magic All Star Cheer Tryouts - Lake Mary Location Only
DESCRIPTION:
URL:https://www.orlandometrogyms.com/event/metro-magic-all-star-cheer-tryouts-lake-mary-location-only/
LOCATION:Orlando Metro Gymnastics – Lake Mary\, 1180 Emma Oaks Trail\, Lake Mary\, FL\, 32746\, United States
END:VEVENT
BEGIN:VEVENT
DTSTART;TZID=America/New_York:20220812T183000
DTEND;TZID=America/New_York:20220812T200000
DTSTAMP:20260421T115448
CREATED:20220430T213048Z
LAST-MODIFIED:20220430T213048Z
UID:4491-1660329000-1660334400@www.orlandometrogyms.com
SUMMARY:Open Gym
DESCRIPTION:Open Gym is a great time to practice your gymnastics skills in addition to bounce house\, trampoline and more.  Parents are welcome to watch or drop off.  Boys and Girls are welcome ages 4-17. \nLake Mary location now offers Adult open gym 18+.
URL:https://www.orlandometrogyms.com/event/open-gym-54/
LOCATION:All Locations
END:VEVENT
BEGIN:VEVENT
DTSTART;TZID=America/New_York:20220813T183000
DTEND;TZID=America/New_York:20220814T083000
DTSTAMP:20260421T115448
CREATED:20220806T203543Z
LAST-MODIFIED:20220806T203543Z
UID:4687-1660415400-1660465800@www.orlandometrogyms.com
SUMMARY:End of Summer Sleepover - Lake Mary Location Only
DESCRIPTION:
URL:https://www.orlandometrogyms.com/event/end-of-summer-sleepover-lake-mary-location-only-2/
LOCATION:Orlando Metro Gymnastics – Lake Mary\, 1180 Emma Oaks Trail\, Lake Mary\, FL\, 32746\, United States
END:VEVENT
BEGIN:VEVENT
DTSTART;TZID=America/New_York:20220815T193000
DTEND;TZID=America/New_York:20220815T213000
DTSTAMP:20260421T115448
CREATED:20220430T213557Z
LAST-MODIFIED:20220608T004643Z
UID:4497-1660591800-1660599000@www.orlandometrogyms.com
SUMMARY:Adult Open Gym - LB McLeod Location Only
DESCRIPTION:Beginners welcome.\nFitness * Calisthenics * Stretching *Flipping * Tumbling *\nStrength Training * Movement * Flexibility\nInstruction available at all levels!
URL:https://www.orlandometrogyms.com/event/adult-open-gym-lb-mcleod-location-only-38/
LOCATION:Orlando Metro Gymmnastics – LB McLeod\, 4658 LB McLeod Rd\, Orlando\, FL\, 32811\, United States
END:VEVENT
BEGIN:VEVENT
DTSTART;TZID=America/New_York:20220819T110000
DTEND;TZID=America/New_York:20220819T120000
DTSTAMP:20260421T115448
CREATED:20220430T210732Z
LAST-MODIFIED:20220430T210732Z
UID:4475-1660906800-1660910400@www.orlandometrogyms.com
SUMMARY:Preschool Open Gym
DESCRIPTION:Tiny tots are offered a fun-tastic hour of gymnastics\, dancing\, bounce house\, trampoline and more.  Parent participation is required for each child.  Friends are welcome to attend.  This open gym is offered to children walking to 4 years old.
URL:https://www.orlandometrogyms.com/event/preschool-open-gym-67/
LOCATION:All Locations
END:VEVENT
BEGIN:VEVENT
DTSTART;TZID=America/New_York:20220819T183000
DTEND;TZID=America/New_York:20220819T213000
DTSTAMP:20260421T115448
CREATED:20220806T203659Z
LAST-MODIFIED:20220806T203659Z
UID:4689-1660933800-1660944600@www.orlandometrogyms.com
SUMMARY:Parents Night Out - Pirate and Princess Theme
DESCRIPTION:
URL:https://www.orlandometrogyms.com/event/parents-night-out-pirate-and-princess-theme-2/
LOCATION:All Locations
END:VEVENT
BEGIN:VEVENT
DTSTART;TZID=America/New_York:20220821T143000
DTEND;TZID=America/New_York:20220821T160000
DTSTAMP:20260421T115448
CREATED:20220806T203819Z
LAST-MODIFIED:20220806T203819Z
UID:4691-1661092200-1661097600@www.orlandometrogyms.com
SUMMARY:Funday Sunday - Lake Mary Location Only
DESCRIPTION:
URL:https://www.orlandometrogyms.com/event/funday-sunday-lake-mary-location-only-17/
LOCATION:Orlando Metro Gymnastics – Lake Mary\, 1180 Emma Oaks Trail\, Lake Mary\, FL\, 32746\, United States
END:VEVENT
BEGIN:VEVENT
DTSTART;VALUE=DATE:20220822
DTEND;VALUE=DATE:20220828
DTSTAMP:20260421T115448
CREATED:20220806T203945Z
LAST-MODIFIED:20220806T203945Z
UID:4693-1661126400-1661644799@www.orlandometrogyms.com
SUMMARY:Bring a Friend Week - All Locations
DESCRIPTION:
URL:https://www.orlandometrogyms.com/event/bring-a-friend-week-all-locations-3/
LOCATION:All Locations
END:VEVENT
BEGIN:VEVENT
DTSTART;TZID=America/New_York:20220822T193000
DTEND;TZID=America/New_York:20220822T213000
DTSTAMP:20260421T115448
CREATED:20220430T213436Z
LAST-MODIFIED:20220608T004406Z
UID:4495-1661196600-1661203800@www.orlandometrogyms.com
SUMMARY:Adult Open Gym - LB McLeod Location Only
DESCRIPTION:Beginners welcome.\nFitness * Calisthenics * Stretching *Flipping * Tumbling *\nStrength Training * Movement * Flexibility\nInstruction available at all levels!
URL:https://www.orlandometrogyms.com/event/adult-open-gym-lb-mcleod-location-only-37/
LOCATION:Orlando Metro Gymmnastics – LB McLeod\, 4658 LB McLeod Rd\, Orlando\, FL\, 32811\, United States
END:VEVENT
BEGIN:VEVENT
DTSTART;TZID=America/New_York:20220826T110000
DTEND;TZID=America/New_York:20220826T120000
DTSTAMP:20260421T115448
CREATED:20220430T210834Z
LAST-MODIFIED:20220430T210834Z
UID:4477-1661511600-1661515200@www.orlandometrogyms.com
SUMMARY:Preschool Open Gym
DESCRIPTION:Tiny tots are offered a fun-tastic hour of gymnastics\, dancing\, bounce house\, trampoline and more.  Parent participation is required for each child.  Friends are welcome to attend.  This open gym is offered to children walking to 4 years old.
URL:https://www.orlandometrogyms.com/event/preschool-open-gym-68/
LOCATION:All Locations
END:VEVENT
BEGIN:VEVENT
DTSTART;TZID=America/New_York:20220826T183000
DTEND;TZID=America/New_York:20220826T200000
DTSTAMP:20260421T115448
CREATED:20220430T212756Z
LAST-MODIFIED:20220430T212756Z
UID:4487-1661538600-1661544000@www.orlandometrogyms.com
SUMMARY:Open Gym
DESCRIPTION:Open Gym is a great time to practice your gymnastics skills in addition to bounce house\, trampoline and more.  Parents are welcome to watch or drop off.  Boys and Girls are welcome ages 4-17. \nLake Mary location now offers Adult open gym 18+.
URL:https://www.orlandometrogyms.com/event/open-gym-52/
LOCATION:All Locations
END:VEVENT
BEGIN:VEVENT
DTSTART;TZID=America/New_York:20220827T120000
DTEND;TZID=America/New_York:20220827T133000
DTSTAMP:20260421T115448
CREATED:20220806T204110Z
LAST-MODIFIED:20220806T204110Z
UID:4695-1661601600-1661607000@www.orlandometrogyms.com
SUMMARY:Tumble Workshop - All Locations
DESCRIPTION:
URL:https://www.orlandometrogyms.com/event/tumble-workshop-all-locations/
LOCATION:All Locations
END:VEVENT
BEGIN:VEVENT
DTSTART;TZID=America/New_York:20220829T193000
DTEND;TZID=America/New_York:20220829T213000
DTSTAMP:20260421T115448
CREATED:20220430T213300Z
LAST-MODIFIED:20220608T004311Z
UID:4493-1661801400-1661808600@www.orlandometrogyms.com
SUMMARY:Adult Open Gym - LB McLeod Location Only
DESCRIPTION:Beginners welcome.\nFitness * Calisthenics * Stretching *Flipping * Tumbling *\nStrength Training * Movement * Flexibility\nInstruction available at all levels!
URL:https://www.orlandometrogyms.com/event/adult-open-gym-lb-mcleod-location-only-36/
LOCATION:Orlando Metro Gymmnastics – LB McLeod\, 4658 LB McLeod Rd\, Orlando\, FL\, 32811\, United States
END:VEVENT
END:VCALENDAR