BEGIN:VCALENDAR
VERSION:2.0
PRODID:-//Orlando Metro Gymnastics - ECPv6.5.0//NONSGML v1.0//EN
CALSCALE:GREGORIAN
METHOD:PUBLISH
X-WR-CALNAME:Orlando Metro Gymnastics
X-ORIGINAL-URL:https://www.orlandometrogyms.com
X-WR-CALDESC:Events for Orlando Metro Gymnastics
REFRESH-INTERVAL;VALUE=DURATION:PT1H
X-Robots-Tag:noindex
X-PUBLISHED-TTL:PT1H
BEGIN:VTIMEZONE
TZID:America/New_York
BEGIN:DAYLIGHT
TZOFFSETFROM:-0500
TZOFFSETTO:-0400
TZNAME:EDT
DTSTART:20240310T070000
END:DAYLIGHT
BEGIN:STANDARD
TZOFFSETFROM:-0400
TZOFFSETTO:-0500
TZNAME:EST
DTSTART:20241103T060000
END:STANDARD
END:VTIMEZONE
BEGIN:VEVENT
DTSTART;TZID=America/New_York:20240816T110000
DTEND;TZID=America/New_York:20240816T120000
DTSTAMP:20260425T145924
CREATED:20240623T152215Z
LAST-MODIFIED:20240623T152217Z
UID:7177-1723806000-1723809600@www.orlandometrogyms.com
SUMMARY:Preschool Open Gym Resumes August 16th
DESCRIPTION:
URL:https://www.orlandometrogyms.com/event/preschool-open-gym-resumes-august-16th/
LOCATION:All Locations
END:VEVENT
BEGIN:VEVENT
DTSTART;TZID=America/New_York:20240816T183000
DTEND;TZID=America/New_York:20240816T213000
DTSTAMP:20260425T145924
CREATED:20240623T153114Z
LAST-MODIFIED:20240623T153116Z
UID:7187-1723833000-1723843800@www.orlandometrogyms.com
SUMMARY:Parents Night Out - Back to School Fiesta
DESCRIPTION:
URL:https://www.orlandometrogyms.com/event/parents-night-out-back-to-school-fiesta-2/
LOCATION:Avalon Park\, Lake Mary\, LB McLeod\, Saint Cloud\, FL\, United States
END:VEVENT
END:VCALENDAR