BEGIN:VCALENDAR
VERSION:2.0
PRODID:-//Orlando Metro Gymnastics - ECPv6.5.0//NONSGML v1.0//EN
CALSCALE:GREGORIAN
METHOD:PUBLISH
X-ORIGINAL-URL:https://www.orlandometrogyms.com
X-WR-CALDESC:Events for Orlando Metro Gymnastics
REFRESH-INTERVAL;VALUE=DURATION:PT1H
X-Robots-Tag:noindex
X-PUBLISHED-TTL:PT1H
BEGIN:VTIMEZONE
TZID:America/New_York
BEGIN:DAYLIGHT
TZOFFSETFROM:-0500
TZOFFSETTO:-0400
TZNAME:EDT
DTSTART:20240310T070000
END:DAYLIGHT
BEGIN:STANDARD
TZOFFSETFROM:-0400
TZOFFSETTO:-0500
TZNAME:EST
DTSTART:20241103T060000
END:STANDARD
END:VTIMEZONE
BEGIN:VEVENT
DTSTART;TZID=America/New_York:20240810T183000
DTEND;TZID=America/New_York:20240811T083000
DTSTAMP:20260425T103404
CREATED:20240623T150419Z
LAST-MODIFIED:20240623T150420Z
UID:7157-1723314600-1723365000@www.orlandometrogyms.com
SUMMARY:End of Summer Sleepover - Lake Mary Location Only
DESCRIPTION:
URL:https://www.orlandometrogyms.com/event/end-of-summer-sleepover-lake-mary-location-only-4/
LOCATION:Orlando Metro Gymnastics – Lake Mary\, 1180 Emma Oaks Trail\, Lake Mary\, FL\, 32746\, United States
END:VEVENT
BEGIN:VEVENT
DTSTART;TZID=America/New_York:20240811T143000
DTEND;TZID=America/New_York:20240811T160000
DTSTAMP:20260425T103404
CREATED:20240623T150850Z
LAST-MODIFIED:20240623T150852Z
UID:7161-1723386600-1723392000@www.orlandometrogyms.com
SUMMARY:Funday Sunday - Lake Mary Location Only
DESCRIPTION:
URL:https://www.orlandometrogyms.com/event/funday-sunday-lake-mary-location-only-35/
LOCATION:Orlando Metro Gymnastics – Lake Mary\, 1180 Emma Oaks Trail\, Lake Mary\, FL\, 32746\, United States
END:VEVENT
END:VCALENDAR