BEGIN:VCALENDAR
VERSION:2.0
PRODID:-//Orlando Metro Gymnastics - ECPv6.5.0//NONSGML v1.0//EN
CALSCALE:GREGORIAN
METHOD:PUBLISH
X-ORIGINAL-URL:https://www.orlandometrogyms.com
X-WR-CALDESC:Events for Orlando Metro Gymnastics
REFRESH-INTERVAL;VALUE=DURATION:PT1H
X-Robots-Tag:noindex
X-PUBLISHED-TTL:PT1H
BEGIN:VTIMEZONE
TZID:America/New_York
BEGIN:DAYLIGHT
TZOFFSETFROM:-0500
TZOFFSETTO:-0400
TZNAME:EDT
DTSTART:20240310T070000
END:DAYLIGHT
BEGIN:STANDARD
TZOFFSETFROM:-0400
TZOFFSETTO:-0500
TZNAME:EST
DTSTART:20241103T060000
END:STANDARD
END:VTIMEZONE
BEGIN:VEVENT
DTSTART;VALUE=DATE:20240708
DTEND;VALUE=DATE:20240713
DTSTAMP:20260422T053407
CREATED:20240416T014650Z
LAST-MODIFIED:20240416T014650Z
UID:6895-1720396800-1720828799@www.orlandometrogyms.com
SUMMARY:Kidz Sports Summer Camp
DESCRIPTION:
URL:https://www.orlandometrogyms.com/event/kidz-sports-summer-camp-17/
LOCATION:All Locations
END:VEVENT
BEGIN:VEVENT
DTSTART;TZID=America/New_York:20240712T183000
DTEND;TZID=America/New_York:20240712T200000
DTSTAMP:20260422T053407
CREATED:20240616T171338Z
LAST-MODIFIED:20240616T171338Z
UID:7090-1720809000-1720814400@www.orlandometrogyms.com
SUMMARY:Open Gym
DESCRIPTION:
URL:https://www.orlandometrogyms.com/event/open-gym-121/
LOCATION:All Locations
END:VEVENT
END:VCALENDAR