BEGIN:VCALENDAR
VERSION:2.0
PRODID:-//Orlando Metro Gymnastics - ECPv6.5.0//NONSGML v1.0//EN
CALSCALE:GREGORIAN
METHOD:PUBLISH
X-ORIGINAL-URL:https://www.orlandometrogyms.com
X-WR-CALDESC:Events for Orlando Metro Gymnastics
REFRESH-INTERVAL;VALUE=DURATION:PT1H
X-Robots-Tag:noindex
X-PUBLISHED-TTL:PT1H
BEGIN:VTIMEZONE
TZID:America/New_York
BEGIN:DAYLIGHT
TZOFFSETFROM:-0500
TZOFFSETTO:-0400
TZNAME:EDT
DTSTART:20230312T070000
END:DAYLIGHT
BEGIN:STANDARD
TZOFFSETFROM:-0400
TZOFFSETTO:-0500
TZNAME:EST
DTSTART:20231105T060000
END:STANDARD
END:VTIMEZONE
BEGIN:VEVENT
DTSTART;VALUE=DATE:20230619
DTEND;VALUE=DATE:20230624
DTSTAMP:20260421T170922
CREATED:20230329T172127Z
LAST-MODIFIED:20230329T172127Z
UID:5555-1687132800-1687564799@www.orlandometrogyms.com
SUMMARY:Kidz Sports Summer Camp
DESCRIPTION:
URL:https://www.orlandometrogyms.com/event/kidz-sports-summer-camp-6/
LOCATION:All Locations
END:VEVENT
BEGIN:VEVENT
DTSTART;TZID=America/New_York:20230623T183000
DTEND;TZID=America/New_York:20230623T200000
DTSTAMP:20260421T170922
CREATED:20230127T194048Z
LAST-MODIFIED:20230127T194048Z
UID:5373-1687545000-1687550400@www.orlandometrogyms.com
SUMMARY:Open Gym
DESCRIPTION:Open Gym is a great time to practice your gymnastics skills in addition to bounce house\, trampoline and more.  Parents are welcome to watch or drop off.  Boys and Girls are welcome ages 4-17. \nLake Mary and LB McLeod locations also offer Adult open gym 18+.
URL:https://www.orlandometrogyms.com/event/open-gym-83/
LOCATION:All Locations
END:VEVENT
END:VCALENDAR