BEGIN:VCALENDAR
VERSION:2.0
PRODID:-//Orlando Metro Gymnastics - ECPv6.5.0//NONSGML v1.0//EN
CALSCALE:GREGORIAN
METHOD:PUBLISH
X-WR-CALNAME:Orlando Metro Gymnastics
X-ORIGINAL-URL:https://www.orlandometrogyms.com
X-WR-CALDESC:Events for Orlando Metro Gymnastics
REFRESH-INTERVAL;VALUE=DURATION:PT1H
X-Robots-Tag:noindex
X-PUBLISHED-TTL:PT1H
BEGIN:VTIMEZONE
TZID:America/New_York
BEGIN:DAYLIGHT
TZOFFSETFROM:-0500
TZOFFSETTO:-0400
TZNAME:EDT
DTSTART:20230312T070000
END:DAYLIGHT
BEGIN:STANDARD
TZOFFSETFROM:-0400
TZOFFSETTO:-0500
TZNAME:EST
DTSTART:20231105T060000
END:STANDARD
END:VTIMEZONE
BEGIN:VEVENT
DTSTART;TZID=America/New_York:20230519T110000
DTEND;TZID=America/New_York:20230519T120000
DTSTAMP:20260421T171421
CREATED:20230127T193204Z
LAST-MODIFIED:20230127T193204Z
UID:5353-1684494000-1684497600@www.orlandometrogyms.com
SUMMARY:Preschool Open Gym
DESCRIPTION:Tiny tots are offered a fun-tastic hour of gymnastics\, dancing\, bounce house\, trampoline and more.  Parent participation is required for each child.  Friends are welcome to attend.  This open gym is offered to children walking to 4 years old.
URL:https://www.orlandometrogyms.com/event/preschool-open-gym-84/
LOCATION:All Locations
END:VEVENT
BEGIN:VEVENT
DTSTART;TZID=America/New_York:20230519T183000
DTEND;TZID=America/New_York:20230519T213000
DTSTAMP:20260421T171421
CREATED:20230329T170502Z
LAST-MODIFIED:20230329T170505Z
UID:5530-1684521000-1684531800@www.orlandometrogyms.com
SUMMARY:Parents Night Out - Kick Off to Summer Luau
DESCRIPTION:
URL:https://www.orlandometrogyms.com/event/parents-night-out-kick-off-to-summer-luau/
LOCATION:All Locations
END:VEVENT
END:VCALENDAR