BEGIN:VCALENDAR
VERSION:2.0
PRODID:-//Orlando Metro Gymnastics - ECPv6.5.0//NONSGML v1.0//EN
CALSCALE:GREGORIAN
METHOD:PUBLISH
X-ORIGINAL-URL:https://www.orlandometrogyms.com
X-WR-CALDESC:Events for Orlando Metro Gymnastics
REFRESH-INTERVAL;VALUE=DURATION:PT1H
X-Robots-Tag:noindex
X-PUBLISHED-TTL:PT1H
BEGIN:VTIMEZONE
TZID:America/New_York
BEGIN:DAYLIGHT
TZOFFSETFROM:-0500
TZOFFSETTO:-0400
TZNAME:EDT
DTSTART:20230312T070000
END:DAYLIGHT
BEGIN:STANDARD
TZOFFSETFROM:-0400
TZOFFSETTO:-0500
TZNAME:EST
DTSTART:20231105T060000
END:STANDARD
END:VTIMEZONE
BEGIN:VEVENT
DTSTART;TZID=America/New_York:20230422T140000
DTEND;TZID=America/New_York:20230422T160000
DTSTAMP:20260421T153731
CREATED:20230328T171742Z
LAST-MODIFIED:20230328T171742Z
UID:5517-1682172000-1682179200@www.orlandometrogyms.com
SUMMARY:Carnival End of Year Showcase - Lake Mary and Baldwin Park Locations
DESCRIPTION:
URL:https://www.orlandometrogyms.com/event/carnival-end-of-year-showcase-lake-mary-and-baldwin-park-locations/
LOCATION:Baldwin Park and Lake Mary Location Only
END:VEVENT
END:VCALENDAR