BEGIN:VCALENDAR
VERSION:2.0
PRODID:-//Orlando Metro Gymnastics - ECPv6.5.0//NONSGML v1.0//EN
CALSCALE:GREGORIAN
METHOD:PUBLISH
X-ORIGINAL-URL:https://www.orlandometrogyms.com
X-WR-CALDESC:Events for Orlando Metro Gymnastics
REFRESH-INTERVAL;VALUE=DURATION:PT1H
X-Robots-Tag:noindex
X-PUBLISHED-TTL:PT1H
BEGIN:VTIMEZONE
TZID:UTC
BEGIN:STANDARD
TZOFFSETFROM:+0000
TZOFFSETTO:+0000
TZNAME:UTC
DTSTART:20220101T000000
END:STANDARD
END:VTIMEZONE
BEGIN:VEVENT
DTSTART;TZID=UTC:20221211T143000
DTEND;TZID=UTC:20221211T160000
DTSTAMP:20260421T055219
CREATED:20221120T192520Z
LAST-MODIFIED:20221120T192520Z
UID:5017-1670769000-1670774400@www.orlandometrogyms.com
SUMMARY:Funday Sunday - Lake Mary Location Only
DESCRIPTION:
URL:https://www.orlandometrogyms.com/event/funday-sunday-lake-mary-location-only-21/
LOCATION:Orlando Metro Gymnastics – Lake Mary\, 1180 Emma Oaks Trail\, Lake Mary\, FL\, 32746\, United States
END:VEVENT
END:VCALENDAR