BEGIN:VCALENDAR
VERSION:2.0
PRODID:-//Orlando Metro Gymnastics - ECPv6.5.0//NONSGML v1.0//EN
CALSCALE:GREGORIAN
METHOD:PUBLISH
X-ORIGINAL-URL:https://www.orlandometrogyms.com
X-WR-CALDESC:Events for Orlando Metro Gymnastics
REFRESH-INTERVAL;VALUE=DURATION:PT1H
X-Robots-Tag:noindex
X-PUBLISHED-TTL:PT1H
BEGIN:VTIMEZONE
TZID:America/New_York
BEGIN:DAYLIGHT
TZOFFSETFROM:-0500
TZOFFSETTO:-0400
TZNAME:EDT
DTSTART:20220313T070000
END:DAYLIGHT
BEGIN:STANDARD
TZOFFSETFROM:-0400
TZOFFSETTO:-0500
TZNAME:EST
DTSTART:20221106T060000
END:STANDARD
TZID:UTC
BEGIN:STANDARD
TZOFFSETFROM:+0000
TZOFFSETTO:+0000
TZNAME:UTC
DTSTART:20220101T000000
END:STANDARD
END:VTIMEZONE
BEGIN:VEVENT
DTSTART;VALUE=DATE:20221104
DTEND;VALUE=DATE:20221107
DTSTAMP:20260421T074907
CREATED:20220806T221101Z
LAST-MODIFIED:20220806T221101Z
UID:4792-1667520000-1667779199@www.orlandometrogyms.com
SUMMARY:Jungle Gym Invitational
DESCRIPTION:
URL:https://www.orlandometrogyms.com/event/jungle-gym-invitational-3/
LOCATION:Hyatt Regency Orlando\, 9801 International Dr\, Orlando\, FL\, 32819\, United States
END:VEVENT
BEGIN:VEVENT
DTSTART;TZID=UTC:20221105T190000
DTEND;TZID=UTC:20221105T214500
DTSTAMP:20260421T074907
CREATED:20221102T184035Z
LAST-MODIFIED:20221102T184035Z
UID:4959-1667674800-1667684700@www.orlandometrogyms.com
SUMMARY:Movie in the Gym - Baldwin Park Location Only
DESCRIPTION:
URL:https://www.orlandometrogyms.com/event/movie-in-the-gym-baldwin-park-location-only-18/
LOCATION:Orlando Metro Gymnastics – Baldwin Park\, 4915 New Broad Street\, Orlando\, FL\, 32814\, United States
END:VEVENT
END:VCALENDAR