BEGIN:VCALENDAR
VERSION:2.0
PRODID:-//Orlando Metro Gymnastics - ECPv6.5.0//NONSGML v1.0//EN
CALSCALE:GREGORIAN
METHOD:PUBLISH
X-ORIGINAL-URL:https://www.orlandometrogyms.com
X-WR-CALDESC:Events for Orlando Metro Gymnastics
REFRESH-INTERVAL;VALUE=DURATION:PT1H
X-Robots-Tag:noindex
X-PUBLISHED-TTL:PT1H
BEGIN:VTIMEZONE
TZID:America/New_York
BEGIN:DAYLIGHT
TZOFFSETFROM:-0500
TZOFFSETTO:-0400
TZNAME:EDT
DTSTART:20220313T070000
END:DAYLIGHT
BEGIN:STANDARD
TZOFFSETFROM:-0400
TZOFFSETTO:-0500
TZNAME:EST
DTSTART:20221106T060000
END:STANDARD
END:VTIMEZONE
BEGIN:VEVENT
DTSTART;TZID=America/New_York:20220916T110000
DTEND;TZID=America/New_York:20220916T120000
DTSTAMP:20260425T075003
CREATED:20220806T215408Z
LAST-MODIFIED:20220806T215408Z
UID:4781-1663326000-1663329600@www.orlandometrogyms.com
SUMMARY:Preschool Open Gym
DESCRIPTION:Tiny tots are offered a fun-tastic hour of gymnastics\, dancing\, bounce house\, trampoline and more.  Parent participation is required for each child.  Friends are welcome to attend.  This open gym is offered to children walking to 4 years old.
URL:https://www.orlandometrogyms.com/event/preschool-open-gym-62/
LOCATION:All Locations
END:VEVENT
BEGIN:VEVENT
DTSTART;TZID=America/New_York:20220916T183000
DTEND;TZID=America/New_York:20220916T213000
DTSTAMP:20260425T075003
CREATED:20220901T033258Z
LAST-MODIFIED:20220901T033258Z
UID:4825-1663353000-1663363800@www.orlandometrogyms.com
SUMMARY:Parents Night Out - Back to School Fiesta
DESCRIPTION:
URL:https://www.orlandometrogyms.com/event/parents-night-out-back-to-school-fiesta/
LOCATION:All Locations
END:VEVENT
END:VCALENDAR