BEGIN:VCALENDAR
VERSION:2.0
PRODID:-//Orlando Metro Gymnastics - ECPv6.5.0//NONSGML v1.0//EN
CALSCALE:GREGORIAN
METHOD:PUBLISH
X-ORIGINAL-URL:https://www.orlandometrogyms.com
X-WR-CALDESC:Events for Orlando Metro Gymnastics
REFRESH-INTERVAL;VALUE=DURATION:PT1H
X-Robots-Tag:noindex
X-PUBLISHED-TTL:PT1H
BEGIN:VTIMEZONE
TZID:America/New_York
BEGIN:DAYLIGHT
TZOFFSETFROM:-0500
TZOFFSETTO:-0400
TZNAME:EDT
DTSTART:20220313T070000
END:DAYLIGHT
BEGIN:STANDARD
TZOFFSETFROM:-0400
TZOFFSETTO:-0500
TZNAME:EST
DTSTART:20221106T060000
END:STANDARD
END:VTIMEZONE
BEGIN:VEVENT
DTSTART;TZID=America/New_York:20220903T190000
DTEND;TZID=America/New_York:20220903T214500
DTSTAMP:20260421T102723
CREATED:20220901T032835Z
LAST-MODIFIED:20220922T111338Z
UID:4817-1662231600-1662241500@www.orlandometrogyms.com
SUMMARY:Movie in the Gym - Baldwin Park Location Only
DESCRIPTION:
URL:https://www.orlandometrogyms.com/event/movie-in-the-gym-baldwin-park-location-only-16/
LOCATION:Orlando Metro Gymnastics – Baldwin Park\, 4915 New Broad Street\, Orlando\, FL\, 32814\, United States
END:VEVENT
END:VCALENDAR